BEGIN:VCALENDAR
VERSION:2.0
PRODID:-//Long Neck Sunrise Rotary Club - ECPv6.15.20//NONSGML v1.0//EN
CALSCALE:GREGORIAN
METHOD:PUBLISH
X-WR-CALNAME:Long Neck Sunrise Rotary Club
X-ORIGINAL-URL:https://longnecksunriserotaryclub.com
X-WR-CALDESC:Events for Long Neck Sunrise Rotary Club
REFRESH-INTERVAL;VALUE=DURATION:PT1H
X-Robots-Tag:noindex
X-PUBLISHED-TTL:PT1H
BEGIN:VTIMEZONE
TZID:America/New_York
BEGIN:DAYLIGHT
TZOFFSETFROM:-0500
TZOFFSETTO:-0400
TZNAME:EDT
DTSTART:20210314T070000
END:DAYLIGHT
BEGIN:STANDARD
TZOFFSETFROM:-0400
TZOFFSETTO:-0500
TZNAME:EST
DTSTART:20211107T060000
END:STANDARD
BEGIN:DAYLIGHT
TZOFFSETFROM:-0500
TZOFFSETTO:-0400
TZNAME:EDT
DTSTART:20220313T070000
END:DAYLIGHT
BEGIN:STANDARD
TZOFFSETFROM:-0400
TZOFFSETTO:-0500
TZNAME:EST
DTSTART:20221106T060000
END:STANDARD
BEGIN:DAYLIGHT
TZOFFSETFROM:-0500
TZOFFSETTO:-0400
TZNAME:EDT
DTSTART:20230312T070000
END:DAYLIGHT
BEGIN:STANDARD
TZOFFSETFROM:-0400
TZOFFSETTO:-0500
TZNAME:EST
DTSTART:20231105T060000
END:STANDARD
BEGIN:DAYLIGHT
TZOFFSETFROM:-0500
TZOFFSETTO:-0400
TZNAME:EDT
DTSTART:20240310T070000
END:DAYLIGHT
BEGIN:STANDARD
TZOFFSETFROM:-0400
TZOFFSETTO:-0500
TZNAME:EST
DTSTART:20241103T060000
END:STANDARD
END:VTIMEZONE
BEGIN:VEVENT
DTSTART;TZID=America/New_York:20230606T073000
DTEND;TZID=America/New_York:20230606T083000
DTSTAMP:20260423T045312
CREATED:20230531T224059Z
LAST-MODIFIED:20230531T224059Z
UID:4265-1686036600-1686040200@longnecksunriserotaryclub.com
SUMMARY:Weekly Meeting-Walt Ellenberger
DESCRIPTION:
URL:https://longnecksunriserotaryclub.com/event/weekly-meeting-walt-ellenberger/
END:VEVENT
BEGIN:VEVENT
DTSTART;TZID=America/New_York:20230523T073000
DTEND;TZID=America/New_York:20230523T083000
DTSTAMP:20260423T045312
CREATED:20230502T152657Z
LAST-MODIFIED:20230531T224828Z
UID:4261-1684827000-1684830600@longnecksunriserotaryclub.com
SUMMARY:Weekly Meeting- Laura Bergen-Meals on Wheels speaker-973-545-6475
DESCRIPTION:
URL:https://longnecksunriserotaryclub.com/event/weekly-meeting-laura-bergen-meals-on-wheels-speaker/
END:VEVENT
BEGIN:VEVENT
DTSTART;TZID=America/New_York:20230516T073000
DTEND;TZID=America/New_York:20230516T083000
DTSTAMP:20260423T045312
CREATED:20230411T193645Z
LAST-MODIFIED:20230531T225039Z
UID:4250-1684222200-1684225800@longnecksunriserotaryclub.com
SUMMARY:Weekly Meeting-Brian Vanvestrant from Boy Scouts of America-302-531-7855
DESCRIPTION:
URL:https://longnecksunriserotaryclub.com/event/weekly-meeting-brian-vanvestrant-from-boy-scouts-of-america/
END:VEVENT
BEGIN:VEVENT
DTSTART;TZID=America/New_York:20230425T073000
DTEND;TZID=America/New_York:20230425T083000
DTSTAMP:20260423T045312
CREATED:20230411T193255Z
LAST-MODIFIED:20230411T193255Z
UID:4248-1682407800-1682411400@longnecksunriserotaryclub.com
SUMMARY:Weekly Meeting-DC Cliff Berg
DESCRIPTION:
URL:https://longnecksunriserotaryclub.com/event/weekly-meeting-dc-cliff-berg/
END:VEVENT
BEGIN:VEVENT
DTSTART;TZID=America/New_York:20230418T073000
DTEND;TZID=America/New_York:20230418T083000
DTSTAMP:20260423T045312
CREATED:20230411T193131Z
LAST-MODIFIED:20230411T193131Z
UID:4246-1681803000-1681806600@longnecksunriserotaryclub.com
SUMMARY:Weekly Meeting-No Speaker
DESCRIPTION:
URL:https://longnecksunriserotaryclub.com/event/weekly-meeting-no-speaker/
END:VEVENT
BEGIN:VEVENT
DTSTART;TZID=America/New_York:20230404T073000
DTEND;TZID=America/New_York:20230404T083000
DTSTAMP:20260423T045312
CREATED:20230228T194406Z
LAST-MODIFIED:20230531T225159Z
UID:4205-1680593400-1680597000@longnecksunriserotaryclub.com
SUMMARY:Weekly Meeting- Mary Tapp-Owner of ADA'S Picnic-Speaker-adaspicnic@outlook.com
DESCRIPTION:
URL:https://longnecksunriserotaryclub.com/event/weekly-meeting-mary-tapp-owner-of-adas-kitchen-speaker/
END:VEVENT
BEGIN:VEVENT
DTSTART;TZID=America/New_York:20230328T073000
DTEND;TZID=America/New_York:20230328T083000
DTSTAMP:20260423T045312
CREATED:20230228T194158Z
LAST-MODIFIED:20230531T225306Z
UID:4203-1679988600-1679992200@longnecksunriserotaryclub.com
SUMMARY:Weekly Meeting- Judson Malone- Homeless Shelter Advocate-302-864-5220
DESCRIPTION:
URL:https://longnecksunriserotaryclub.com/event/weekly-meeting-judson-malone-homeless-shelter-advocate/
END:VEVENT
BEGIN:VEVENT
DTSTART;TZID=America/New_York:20230321T073000
DTEND;TZID=America/New_York:20230321T083000
DTSTAMP:20260423T045312
CREATED:20230208T211512Z
LAST-MODIFIED:20230531T225357Z
UID:4183-1679383800-1679387400@longnecksunriserotaryclub.com
SUMMARY:Weekly Meeting-Larry Kirby-Diversity Speaker-302-265-5978
DESCRIPTION:
URL:https://longnecksunriserotaryclub.com/event/weekly-meeting-larry-kirby-diversity-speaker/
END:VEVENT
BEGIN:VEVENT
DTSTART;TZID=America/New_York:20230221T073000
DTEND;TZID=America/New_York:20230221T083000
DTSTAMP:20260423T045312
CREATED:20230118T184100Z
LAST-MODIFIED:20230531T225514Z
UID:4163-1676964600-1676968200@longnecksunriserotaryclub.com
SUMMARY:Weekly Meeting- Mark Schaeffer 3rd District Councilman Sussex County-See Steve Grossman to connect
DESCRIPTION:
URL:https://longnecksunriserotaryclub.com/event/weekly-meeting-mark-schaeffer-3rd-district-councilman-sussex-county/
END:VEVENT
BEGIN:VEVENT
DTSTART;TZID=America/New_York:20230207T073000
DTEND;TZID=America/New_York:20230207T083000
DTSTAMP:20260423T045312
CREATED:20230116T231414Z
LAST-MODIFIED:20230531T225610Z
UID:4157-1675755000-1675758600@longnecksunriserotaryclub.com
SUMMARY:Weekly Meeting- Dr. Jeff Hilovsky-See Steve Grossman
DESCRIPTION:
URL:https://longnecksunriserotaryclub.com/event/weekly-meeting-diversity-speaker-dr-jeff-hilovsky/
END:VEVENT
BEGIN:VEVENT
DTSTART;TZID=America/New_York:20230131T073000
DTEND;TZID=America/New_York:20230131T083000
DTSTAMP:20260423T045312
CREATED:20230116T231537Z
LAST-MODIFIED:20230116T231537Z
UID:4161-1675150200-1675153800@longnecksunriserotaryclub.com
SUMMARY:No Meeting- 5th Tuesday-HH-TBD
DESCRIPTION:
URL:https://longnecksunriserotaryclub.com/event/no-meeting-5th-tuesday-hh-tbd/
END:VEVENT
BEGIN:VEVENT
DTSTART;TZID=America/New_York:20230124T073000
DTEND;TZID=America/New_York:20230124T083000
DTSTAMP:20260423T045312
CREATED:20230116T231455Z
LAST-MODIFIED:20230119T194627Z
UID:4159-1674545400-1674549000@longnecksunriserotaryclub.com
SUMMARY:Weekly Meeting- Christine Tomalin\, Children's Book Author
DESCRIPTION:
URL:https://longnecksunriserotaryclub.com/event/weekly-meeting-no-speaker-2/
END:VEVENT
BEGIN:VEVENT
DTSTART;TZID=America/New_York:20230117T073000
DTEND;TZID=America/New_York:20230117T083000
DTSTAMP:20260423T045312
CREATED:20230112T150210Z
LAST-MODIFIED:20230531T225706Z
UID:4134-1673940600-1673944200@longnecksunriserotaryclub.com
SUMMARY:Weekly Meeting- Speaker Kim Hoey-Stephenson Mentor Coordinator for Cape Henlopen SD-302-381-0283
DESCRIPTION:
URL:https://longnecksunriserotaryclub.com/event/weekly-meeting-speaker-kim-hoey-stephenson-mentor-coordinator-for-cape-henlopen-sd/
END:VEVENT
BEGIN:VEVENT
DTSTART;TZID=America/New_York:20230110T073000
DTEND;TZID=America/New_York:20230110T083000
DTSTAMP:20260423T045312
CREATED:20221201T155641Z
LAST-MODIFIED:20230531T225753Z
UID:4084-1673335800-1673339400@longnecksunriserotaryclub.com
SUMMARY:Weekly Meeting -Senator Pettyjohn-Guest Speaker-See Steve Grossman
DESCRIPTION:
URL:https://longnecksunriserotaryclub.com/event/weekly-meeting-senator-pettyjohn-guest-speaker/
END:VEVENT
BEGIN:VEVENT
DTSTART;TZID=America/New_York:20221213T073000
DTEND;TZID=America/New_York:20221213T083000
DTSTAMP:20260423T045312
CREATED:20230531T225903Z
LAST-MODIFIED:20230531T225903Z
UID:4032-1670916600-1670920200@longnecksunriserotaryclub.com
SUMMARY:Weekly Meeting-Speaker Lynn Jones and Don Parsons Purchase of Care
DESCRIPTION:
URL:https://longnecksunriserotaryclub.com/event/weekly-meeting-speaker-lynn-jones-and-don-parsons-purchase-of-care/
END:VEVENT
BEGIN:VEVENT
DTSTART;TZID=America/New_York:20221213T073000
DTEND;TZID=America/New_York:20221213T083000
DTSTAMP:20260423T045312
CREATED:20221123T200033Z
LAST-MODIFIED:20221123T200033Z
UID:4077-1670916600-1670920200@longnecksunriserotaryclub.com
SUMMARY:Weekly Meeting- Don Jones
DESCRIPTION:
URL:https://longnecksunriserotaryclub.com/event/weekly-meeting-don-jones/
END:VEVENT
BEGIN:VEVENT
DTSTART;TZID=America/New_York:20221210T120000
DTEND;TZID=America/New_York:20221210T170000
DTSTAMP:20260423T045312
CREATED:20221123T200206Z
LAST-MODIFIED:20221123T200206Z
UID:4079-1670673600-1670691600@longnecksunriserotaryclub.com
SUMMARY:Community Holiday Stroll
DESCRIPTION:
URL:https://longnecksunriserotaryclub.com/event/community-holiday-stroll/
END:VEVENT
BEGIN:VEVENT
DTSTART;TZID=America/New_York:20221206T073000
DTEND;TZID=America/New_York:20221206T083000
DTSTAMP:20260423T045312
CREATED:20221123T195935Z
LAST-MODIFIED:20221123T195935Z
UID:4075-1670311800-1670315400@longnecksunriserotaryclub.com
SUMMARY:Weekly Meeting- Theresa Townsend from Wreaths Across America
DESCRIPTION:
URL:https://longnecksunriserotaryclub.com/event/weekly-meeting-theresa-townsend-from-wreaths-across-america/
END:VEVENT
BEGIN:VEVENT
DTSTART;TZID=America/New_York:20221201T170000
DTEND;TZID=America/New_York:20221201T190000
DTSTAMP:20260423T045312
CREATED:20221123T195439Z
LAST-MODIFIED:20221123T195439Z
UID:4073-1669914000-1669921200@longnecksunriserotaryclub.com
SUMMARY:Happy Hour-Brickworks
DESCRIPTION:
URL:https://longnecksunriserotaryclub.com/event/happy-hour-brickworks/
END:VEVENT
BEGIN:VEVENT
DTSTART;TZID=America/New_York:20221129T073000
DTEND;TZID=America/New_York:20221129T073000
DTSTAMP:20260423T045312
CREATED:20221123T195337Z
LAST-MODIFIED:20221123T195337Z
UID:4071-1669707000-1669707000@longnecksunriserotaryclub.com
SUMMARY:No Meeting
DESCRIPTION:
URL:https://longnecksunriserotaryclub.com/event/no-meeting-4/
END:VEVENT
BEGIN:VEVENT
DTSTART;TZID=America/New_York:20221122T073000
DTEND;TZID=America/New_York:20221123T083000
DTSTAMP:20260423T045312
CREATED:20221123T195223Z
LAST-MODIFIED:20221123T195223Z
UID:4068-1669102200-1669192200@longnecksunriserotaryclub.com
SUMMARY:No Meeting
DESCRIPTION:
URL:https://longnecksunriserotaryclub.com/event/no-meeting-3/
END:VEVENT
BEGIN:VEVENT
DTSTART;TZID=America/New_York:20221115T073000
DTEND;TZID=America/New_York:20221115T083000
DTSTAMP:20260423T045312
CREATED:20221024T173040Z
LAST-MODIFIED:20221024T173040Z
UID:4020-1668497400-1668501000@longnecksunriserotaryclub.com
SUMMARY:Weekly Meeting-Speaker-Tina Poffenberger First State Aging Network
DESCRIPTION:
URL:https://longnecksunriserotaryclub.com/event/weekly-meeting-speaker-tina-poffenberger-first-state-aging-network/
END:VEVENT
BEGIN:VEVENT
DTSTART;TZID=America/New_York:20221101T073000
DTEND;TZID=America/New_York:20221101T083000
DTSTAMP:20260423T045312
CREATED:20221002T214839Z
LAST-MODIFIED:20221002T214839Z
UID:4008-1667287800-1667291400@longnecksunriserotaryclub.com
SUMMARY:Weekly Meeting-Cliff Berg-Rotary Club speaker
DESCRIPTION:
URL:https://longnecksunriserotaryclub.com/event/weekly-meeting-cliff-berg-rotary-club-speaker/
END:VEVENT
BEGIN:VEVENT
DTSTART;TZID=America/New_York:20221025T073000
DTEND;TZID=America/New_York:20221025T083000
DTSTAMP:20260423T045312
CREATED:20221002T214515Z
LAST-MODIFIED:20221002T214515Z
UID:4006-1666683000-1666686600@longnecksunriserotaryclub.com
SUMMARY:Weekly Meeting- Speaker-Arianna Fox-Best selling author and speaker
DESCRIPTION:
URL:https://longnecksunriserotaryclub.com/event/weekly-meeting-speaker-arianna-fox-best-selling-author-and-speaker/
END:VEVENT
BEGIN:VEVENT
DTSTART;TZID=America/New_York:20221018T080000
DTEND;TZID=America/New_York:20221018T170000
DTSTAMP:20260423T045312
CREATED:20220823T194305Z
LAST-MODIFIED:20220823T194305Z
UID:3995-1666080000-1666112400@longnecksunriserotaryclub.com
SUMMARY:Weekly Meeting-Speaker Mike Dunmyer- US Wind
DESCRIPTION:
URL:https://longnecksunriserotaryclub.com/event/weekly-meeting-speaker-mike-dunmyer-us-wind/
END:VEVENT
BEGIN:VEVENT
DTSTART;TZID=America/New_York:20221004T073000
DTEND;TZID=America/New_York:20221004T083000
DTSTAMP:20260423T045312
CREATED:20221002T214324Z
LAST-MODIFIED:20221002T214324Z
UID:4004-1664868600-1664872200@longnecksunriserotaryclub.com
SUMMARY:Weekly Meeting-Jim Yost-Bio
DESCRIPTION:
URL:https://longnecksunriserotaryclub.com/event/weekly-meeting-jim-yost-bio/
END:VEVENT
BEGIN:VEVENT
DTSTART;TZID=America/New_York:20220920T073000
DTEND;TZID=America/New_York:20220920T083000
DTSTAMP:20260423T045312
CREATED:20220918T162004Z
LAST-MODIFIED:20220918T162004Z
UID:3998-1663659000-1663662600@longnecksunriserotaryclub.com
SUMMARY:Weekly Meeting-Speaker Dr Tam
DESCRIPTION:
URL:https://longnecksunriserotaryclub.com/event/weekly-meeting-speaker-dr-tam/
END:VEVENT
BEGIN:VEVENT
DTSTART;TZID=America/New_York:20220920T073000
DTEND;TZID=America/New_York:20220920T083000
DTSTAMP:20260423T045312
CREATED:20220712T152843Z
LAST-MODIFIED:20220712T152843Z
UID:3978-1663659000-1663662600@longnecksunriserotaryclub.com
SUMMARY:Weekly Meeting
DESCRIPTION:Speaker is Dr. Tam from Bebee Health Care speaking about their Strategic 5 Year Plan
URL:https://longnecksunriserotaryclub.com/event/weekly-meeting-2/
END:VEVENT
BEGIN:VEVENT
DTSTART;TZID=America/New_York:20220913T080000
DTEND;TZID=America/New_York:20220913T170000
DTSTAMP:20260423T045312
CREATED:20220823T193537Z
LAST-MODIFIED:20220823T193537Z
UID:3993-1663056000-1663088400@longnecksunriserotaryclub.com
SUMMARY:Our own member Max-Financial Information
DESCRIPTION:
URL:https://longnecksunriserotaryclub.com/event/our-own-member-max-financial-information/
END:VEVENT
BEGIN:VEVENT
DTSTART;TZID=America/New_York:20220913T073000
DTEND;TZID=America/New_York:20220913T083000
DTSTAMP:20260423T045312
CREATED:20220703T180551Z
LAST-MODIFIED:20220703T180551Z
UID:3971-1663054200-1663057800@longnecksunriserotaryclub.com
SUMMARY:Weekly Meeting- Max Hutsell-Old Dominion Investments
DESCRIPTION:
URL:https://longnecksunriserotaryclub.com/event/weekly-meeting-max-hutsell-old-dominion-investments/
END:VEVENT
END:VCALENDAR