BEGIN:VCALENDAR
VERSION:2.0
PRODID:-//Long Neck Sunrise Rotary Club - ECPv6.15.20//NONSGML v1.0//EN
CALSCALE:GREGORIAN
METHOD:PUBLISH
X-WR-CALNAME:Long Neck Sunrise Rotary Club
X-ORIGINAL-URL:https://longnecksunriserotaryclub.com
X-WR-CALDESC:Events for Long Neck Sunrise Rotary Club
REFRESH-INTERVAL;VALUE=DURATION:PT1H
X-Robots-Tag:noindex
X-PUBLISHED-TTL:PT1H
BEGIN:VTIMEZONE
TZID:America/New_York
BEGIN:DAYLIGHT
TZOFFSETFROM:-0500
TZOFFSETTO:-0400
TZNAME:EDT
DTSTART:20210314T070000
END:DAYLIGHT
BEGIN:STANDARD
TZOFFSETFROM:-0400
TZOFFSETTO:-0500
TZNAME:EST
DTSTART:20211107T060000
END:STANDARD
BEGIN:DAYLIGHT
TZOFFSETFROM:-0500
TZOFFSETTO:-0400
TZNAME:EDT
DTSTART:20220313T070000
END:DAYLIGHT
BEGIN:STANDARD
TZOFFSETFROM:-0400
TZOFFSETTO:-0500
TZNAME:EST
DTSTART:20221106T060000
END:STANDARD
BEGIN:DAYLIGHT
TZOFFSETFROM:-0500
TZOFFSETTO:-0400
TZNAME:EDT
DTSTART:20230312T070000
END:DAYLIGHT
BEGIN:STANDARD
TZOFFSETFROM:-0400
TZOFFSETTO:-0500
TZNAME:EST
DTSTART:20231105T060000
END:STANDARD
END:VTIMEZONE
BEGIN:VEVENT
DTSTART;TZID=America/New_York:20221115T073000
DTEND;TZID=America/New_York:20221115T083000
DTSTAMP:20260423T054230
CREATED:20221024T173040Z
LAST-MODIFIED:20221024T173040Z
UID:4020-1668497400-1668501000@longnecksunriserotaryclub.com
SUMMARY:Weekly Meeting-Speaker-Tina Poffenberger First State Aging Network
DESCRIPTION:
URL:https://longnecksunriserotaryclub.com/event/weekly-meeting-speaker-tina-poffenberger-first-state-aging-network/
END:VEVENT
BEGIN:VEVENT
DTSTART;TZID=America/New_York:20221101T073000
DTEND;TZID=America/New_York:20221101T083000
DTSTAMP:20260423T054230
CREATED:20221002T214839Z
LAST-MODIFIED:20221002T214839Z
UID:4008-1667287800-1667291400@longnecksunriserotaryclub.com
SUMMARY:Weekly Meeting-Cliff Berg-Rotary Club speaker
DESCRIPTION:
URL:https://longnecksunriserotaryclub.com/event/weekly-meeting-cliff-berg-rotary-club-speaker/
END:VEVENT
BEGIN:VEVENT
DTSTART;TZID=America/New_York:20221025T073000
DTEND;TZID=America/New_York:20221025T083000
DTSTAMP:20260423T054230
CREATED:20221002T214515Z
LAST-MODIFIED:20221002T214515Z
UID:4006-1666683000-1666686600@longnecksunriserotaryclub.com
SUMMARY:Weekly Meeting- Speaker-Arianna Fox-Best selling author and speaker
DESCRIPTION:
URL:https://longnecksunriserotaryclub.com/event/weekly-meeting-speaker-arianna-fox-best-selling-author-and-speaker/
END:VEVENT
BEGIN:VEVENT
DTSTART;TZID=America/New_York:20221018T080000
DTEND;TZID=America/New_York:20221018T170000
DTSTAMP:20260423T054230
CREATED:20220823T194305Z
LAST-MODIFIED:20220823T194305Z
UID:3995-1666080000-1666112400@longnecksunriserotaryclub.com
SUMMARY:Weekly Meeting-Speaker Mike Dunmyer- US Wind
DESCRIPTION:
URL:https://longnecksunriserotaryclub.com/event/weekly-meeting-speaker-mike-dunmyer-us-wind/
END:VEVENT
BEGIN:VEVENT
DTSTART;TZID=America/New_York:20221004T073000
DTEND;TZID=America/New_York:20221004T083000
DTSTAMP:20260423T054230
CREATED:20221002T214324Z
LAST-MODIFIED:20221002T214324Z
UID:4004-1664868600-1664872200@longnecksunriserotaryclub.com
SUMMARY:Weekly Meeting-Jim Yost-Bio
DESCRIPTION:
URL:https://longnecksunriserotaryclub.com/event/weekly-meeting-jim-yost-bio/
END:VEVENT
BEGIN:VEVENT
DTSTART;TZID=America/New_York:20220920T073000
DTEND;TZID=America/New_York:20220920T083000
DTSTAMP:20260423T054230
CREATED:20220918T162004Z
LAST-MODIFIED:20220918T162004Z
UID:3998-1663659000-1663662600@longnecksunriserotaryclub.com
SUMMARY:Weekly Meeting-Speaker Dr Tam
DESCRIPTION:
URL:https://longnecksunriserotaryclub.com/event/weekly-meeting-speaker-dr-tam/
END:VEVENT
BEGIN:VEVENT
DTSTART;TZID=America/New_York:20220920T073000
DTEND;TZID=America/New_York:20220920T083000
DTSTAMP:20260423T054230
CREATED:20220712T152843Z
LAST-MODIFIED:20220712T152843Z
UID:3978-1663659000-1663662600@longnecksunriserotaryclub.com
SUMMARY:Weekly Meeting
DESCRIPTION:Speaker is Dr. Tam from Bebee Health Care speaking about their Strategic 5 Year Plan
URL:https://longnecksunriserotaryclub.com/event/weekly-meeting-2/
END:VEVENT
BEGIN:VEVENT
DTSTART;TZID=America/New_York:20220913T080000
DTEND;TZID=America/New_York:20220913T170000
DTSTAMP:20260423T054230
CREATED:20220823T193537Z
LAST-MODIFIED:20220823T193537Z
UID:3993-1663056000-1663088400@longnecksunriserotaryclub.com
SUMMARY:Our own member Max-Financial Information
DESCRIPTION:
URL:https://longnecksunriserotaryclub.com/event/our-own-member-max-financial-information/
END:VEVENT
BEGIN:VEVENT
DTSTART;TZID=America/New_York:20220913T073000
DTEND;TZID=America/New_York:20220913T083000
DTSTAMP:20260423T054230
CREATED:20220703T180551Z
LAST-MODIFIED:20220703T180551Z
UID:3971-1663054200-1663057800@longnecksunriserotaryclub.com
SUMMARY:Weekly Meeting- Max Hutsell-Old Dominion Investments
DESCRIPTION:
URL:https://longnecksunriserotaryclub.com/event/weekly-meeting-max-hutsell-old-dominion-investments/
END:VEVENT
BEGIN:VEVENT
DTSTART;TZID=America/New_York:20220912T183000
DTEND;TZID=America/New_York:20220912T203000
DTSTAMP:20260423T054230
CREATED:20220703T175930Z
LAST-MODIFIED:20220703T175930Z
UID:3963-1663007400-1663014600@longnecksunriserotaryclub.com
SUMMARY:Board Meeting
DESCRIPTION:
URL:https://longnecksunriserotaryclub.com/event/board-meeting-2/
END:VEVENT
BEGIN:VEVENT
DTSTART;TZID=America/New_York:20220912T183000
DTEND;TZID=America/New_York:20220912T203000
DTSTAMP:20260423T054230
CREATED:20220703T171902Z
LAST-MODIFIED:20220703T175622Z
UID:3942-1663007400-1663014600@longnecksunriserotaryclub.com
SUMMARY:Board Meeting
DESCRIPTION:
URL:https://longnecksunriserotaryclub.com/event/club-board-meeting-41/
END:VEVENT
BEGIN:VEVENT
DTSTART;TZID=America/New_York:20220906T080000
DTEND;TZID=America/New_York:20220906T170000
DTSTAMP:20260423T054230
CREATED:20220823T193416Z
LAST-MODIFIED:20220823T193416Z
UID:3991-1662451200-1662483600@longnecksunriserotaryclub.com
SUMMARY:No Meeting
DESCRIPTION:
URL:https://longnecksunriserotaryclub.com/event/no-meeting-2/
END:VEVENT
BEGIN:VEVENT
DTSTART;TZID=America/New_York:20220830T080000
DTEND;TZID=America/New_York:20220830T170000
DTSTAMP:20260423T054230
CREATED:20220823T193328Z
LAST-MODIFIED:20220823T193328Z
UID:3989-1661846400-1661878800@longnecksunriserotaryclub.com
SUMMARY:No Meeting
DESCRIPTION:Fifth Tuesday
URL:https://longnecksunriserotaryclub.com/event/no-meeting/
END:VEVENT
BEGIN:VEVENT
DTSTART;TZID=America/New_York:20220823T073000
DTEND;TZID=America/New_York:20220823T083000
DTSTAMP:20260423T054230
CREATED:20220703T180421Z
LAST-MODIFIED:20220703T180421Z
UID:3969-1661239800-1661243400@longnecksunriserotaryclub.com
SUMMARY:Weekly Meeting-Jennifer MacMillian-Jenny's Gem Owner-Delaware Woman Owned Business of the Year
DESCRIPTION:
URL:https://longnecksunriserotaryclub.com/event/weekly-meeting-jennifer-macmillian-jennys-gem-owner-delaware-woman-owned-business-of-the-year/
END:VEVENT
BEGIN:VEVENT
DTSTART;TZID=America/New_York:20220809T073000
DTEND;TZID=America/New_York:20220809T083000
DTSTAMP:20260423T054230
CREATED:20220703T180223Z
LAST-MODIFIED:20220703T180223Z
UID:3967-1660030200-1660033800@longnecksunriserotaryclub.com
SUMMARY:Weekly Meeting-Patty Gilmore-Animal Massages
DESCRIPTION:
URL:https://longnecksunriserotaryclub.com/event/weekly-meeting-patty-gilmore-animal-massages/
END:VEVENT
BEGIN:VEVENT
DTSTART;TZID=America/New_York:20220808T183000
DTEND;TZID=America/New_York:20220808T203000
DTSTAMP:20260423T054230
CREATED:20220703T175850Z
LAST-MODIFIED:20220703T175850Z
UID:3961-1659983400-1659990600@longnecksunriserotaryclub.com
SUMMARY:Board Meeting
DESCRIPTION:
URL:https://longnecksunriserotaryclub.com/event/board-meeting/
END:VEVENT
BEGIN:VEVENT
DTSTART;TZID=America/New_York:20220726T073000
DTEND;TZID=America/New_York:20220726T083000
DTSTAMP:20260423T054230
CREATED:20220703T180109Z
LAST-MODIFIED:20220703T180109Z
UID:3965-1658820600-1658824200@longnecksunriserotaryclub.com
SUMMARY:Weekly Meeting-Melissa Paolkas-DE Casa
DESCRIPTION:
URL:https://longnecksunriserotaryclub.com/event/weekly-meeting-melissa-paolkas-de-casa/
END:VEVENT
BEGIN:VEVENT
DTSTART;TZID=America/New_York:20220719T073000
DTEND;TZID=America/New_York:20220719T083000
DTSTAMP:20260423T054230
CREATED:20220321T151017Z
LAST-MODIFIED:20220715T135458Z
UID:3865-1658215800-1658219400@longnecksunriserotaryclub.com
SUMMARY:Weekly Club Meeting\, Medicare Fraud and Abuse-Mary Anne Bonafair
DESCRIPTION:Our presenter today is Mary Anne Bonafair with up to date information on Medicare Fraud and Abuse
URL:https://longnecksunriserotaryclub.com/event/weekly-club-meeting-brian-vanvestraut-sussex-county-boy-scouts-of-america/
END:VEVENT
BEGIN:VEVENT
DTSTART;TZID=America/New_York:20220712T073000
DTEND;TZID=America/New_York:20220712T083000
DTSTAMP:20260423T054230
CREATED:20220321T151253Z
LAST-MODIFIED:20220321T151253Z
UID:3868-1657611000-1657614600@longnecksunriserotaryclub.com
SUMMARY:Club Assembly & Committee Meetings
DESCRIPTION:Club president Dan Reed will conduct a club assembly sharing any pertinent information from the Board meeting with club members.  The balance of the club meeting time will be devoted to club committee meetings.
URL:https://longnecksunriserotaryclub.com/event/club-assembly-committee-meetings-25/
END:VEVENT
BEGIN:VEVENT
DTSTART;TZID=America/New_York:20220711T183000
DTEND;TZID=America/New_York:20220711T203000
DTSTAMP:20260423T054230
CREATED:20220705T164041Z
LAST-MODIFIED:20220705T164144Z
UID:3974-1657564200-1657571400@longnecksunriserotaryclub.com
SUMMARY:Board Meeting 6:30-8:30
DESCRIPTION:
URL:https://longnecksunriserotaryclub.com/event/board-meeting-630-830/
END:VEVENT
BEGIN:VEVENT
DTSTART;TZID=America/New_York:20220705T073000
DTEND;TZID=America/New_York:20220705T083000
DTSTAMP:20260423T054230
CREATED:20220321T151545Z
LAST-MODIFIED:20220321T151545Z
UID:3870-1657006200-1657009800@longnecksunriserotaryclub.com
SUMMARY:No Club Meeting
DESCRIPTION:No Club Meeting as Club members celebrate Independence Day July 4th holiday.
URL:https://longnecksunriserotaryclub.com/event/no-club-meeting-7/
END:VEVENT
BEGIN:VEVENT
DTSTART;TZID=America/New_York:20220628T073000
DTEND;TZID=America/New_York:20220628T083000
DTSTAMP:20260423T054230
CREATED:20220412T134737Z
LAST-MODIFIED:20220412T134737Z
UID:3894-1656401400-1656405000@longnecksunriserotaryclub.com
SUMMARY:Weekly Meeting\, No Meeting
DESCRIPTION:Meeting is cancelled for this Tuesday morning as the club held its annual transition changeover dinner meeting last night at the Peninsula.
URL:https://longnecksunriserotaryclub.com/event/weekly-meeting-no-meeting/
END:VEVENT
BEGIN:VEVENT
DTSTART;TZID=America/New_York:20220627T173000
DTEND;TZID=America/New_York:20220627T200000
DTSTAMP:20260423T054230
CREATED:20220412T135214Z
LAST-MODIFIED:20220412T135214Z
UID:3896-1656351000-1656360000@longnecksunriserotaryclub.com
SUMMARY:Weekly Meeting\, Changeover Dinner
DESCRIPTION:The breakfast meeting for tomorrow\, Tuesday June 28 has been cancelled so that the club can conduct it’s annual transition between Rotary years.  We are holding a dinner meeting at the Peninsula.     Evening begins with social hour at 5:30 p.m. and dinner to follow.  This will be an evening to celebrate club accomplishments during the 21-22 Club year along with installation of 22-23 Club President  Dan Reed\, 22-23 club officers and board members and a look forward to service opportunities in the new Rotary year.
URL:https://longnecksunriserotaryclub.com/event/weekly-meeting-changeover-dinner/
END:VEVENT
BEGIN:VEVENT
DTSTART;TZID=America/New_York:20220621T073000
DTEND;TZID=America/New_York:20220621T083000
DTSTAMP:20260423T054230
CREATED:20220412T145009Z
LAST-MODIFIED:20220412T145009Z
UID:3898-1655796600-1655800200@longnecksunriserotaryclub.com
SUMMARY:Weekly Meeting\, 13th Annual Charity Golf Tournament Debriefing
DESCRIPTION:The club will take today’s meeting to review and assess our 13th Annual Rotary Charity Golf Tournament held yesterday at the Peninsula.  Discussion will focus on all aspects of the tournament and all members are encouraged to share their assessment of what aspects of the tournament went well and areas for improvement.
URL:https://longnecksunriserotaryclub.com/event/weekly-meeting-13th-annual-charity-golf-tournament-debriefing/
END:VEVENT
BEGIN:VEVENT
DTSTART;TZID=America/New_York:20220620T100000
DTEND;TZID=America/New_York:20220620T190000
DTSTAMP:20260423T054230
CREATED:20211106T185735Z
LAST-MODIFIED:20211106T185735Z
UID:3734-1655719200-1655751600@longnecksunriserotaryclub.com
SUMMARY:13th Annual Long Neck Sunrise Rotary Charity Golf Event at the Peninsula on the Indian River Bay
DESCRIPTION:Our club’s 13th Annual Charity Golf Tournament at the Peninsula begins with registration at 10:00 am\, $5\,000 Putting Contest at 11:30 am\, Shotgun Start at 12:00 Noon and dinner/awards beginning at 5:00 pm.  Check out our club’s tournament website page at www.longnecksunriserotaryclub.com for golfer registration forms\, partnership opportunities and a listing of those businesses and organizations supporting our tournament.  The 2021 tournament was a sold out event with 132 golfers enjoying a beautiful day of golf on the spectacular Peninsula golf venue\, great fun and drink\, fun and fellowship all while enabling our Rotary club to raise resources to meet needs in the local and global community.
URL:https://longnecksunriserotaryclub.com/event/13th-annual-long-neck-sunrise-rotary-charity-golf-event-at-the-peninsula-on-the-indian-river-bay/
END:VEVENT
BEGIN:VEVENT
DTSTART;TZID=America/New_York:20220614T073000
DTEND;TZID=America/New_York:20220614T083000
DTSTAMP:20260423T054230
CREATED:20220407T195359Z
LAST-MODIFIED:20220407T195359Z
UID:3891-1655191800-1655195400@longnecksunriserotaryclub.com
SUMMARY:Weekly Club Meeting\, Recognition of Sussex Central HS Student Scholarship Recipients & RYLA Participants
DESCRIPTION:Today’s club meeting will be a recognition of students from Sussex Central High School to include the  three “Service Above Self” Scholarship Recipients\, the two Morse Building Trades Scholarship Recipients and the three students who attended the Rotary Youth Leadership Awards weekend in February.
URL:https://longnecksunriserotaryclub.com/event/weekly-club-meeting-recognition-of-sussex-central-hs-student-scholarship-recipients-ryla-participants/
END:VEVENT
BEGIN:VEVENT
DTSTART;TZID=America/New_York:20220607T073000
DTEND;TZID=America/New_York:20220607T083000
DTSTAMP:20260423T054230
CREATED:20210621T234012Z
LAST-MODIFIED:20210621T234012Z
UID:3605-1654587000-1654590600@longnecksunriserotaryclub.com
SUMMARY:Club Assembly & Committee Meetings
DESCRIPTION:Club president Apryl Parcher will conduct a club assembly sharing any pertinent information from the Board meeting with club members.  The balance of the club meeting time will be devoted to club committee meetings.
URL:https://longnecksunriserotaryclub.com/event/club-assembly-committee-meetings-20/
END:VEVENT
BEGIN:VEVENT
DTSTART;TZID=America/New_York:20220606T183000
DTEND;TZID=America/New_York:20220606T200000
DTSTAMP:20260423T054230
CREATED:20210702T184857Z
LAST-MODIFIED:20210702T184857Z
UID:3658-1654540200-1654545600@longnecksunriserotaryclub.com
SUMMARY:Club Board Meeting
DESCRIPTION:Board meeting will be held via Zoom beginning at 6:30 pm.  Please contact President Apryl Parcher for zoom sign in details.  Club members are also welcome to attend via zoom.
URL:https://longnecksunriserotaryclub.com/event/club-board-meeting-40/
END:VEVENT
BEGIN:VEVENT
DTSTART;TZID=America/New_York:20220531T073000
DTEND;TZID=America/New_York:20220531T083000
DTSTAMP:20260423T054230
CREATED:20220123T184752Z
LAST-MODIFIED:20220525T175634Z
UID:3832-1653982200-1653985800@longnecksunriserotaryclub.com
SUMMARY:Weekly Club Meeting\, Jvonne Oliver\, New Club Member Autobiography
DESCRIPTION:Our newest club member\, Ms. Jvonne Oliver\, will be sharing her autobiography with the club at today’s meeting.  We are excited to welcome her as a member of the Long Neck Sunrise Rotary Club.
URL:https://longnecksunriserotaryclub.com/event/weekly-meeting-linda-forte-easter-seals/
END:VEVENT
BEGIN:VEVENT
DTSTART;TZID=America/New_York:20220526T084500
DTEND;TZID=America/New_York:20220526T104500
DTSTAMP:20260423T054230
CREATED:20220525T180017Z
LAST-MODIFIED:20220525T180017Z
UID:3923-1653554700-1653561900@longnecksunriserotaryclub.com
SUMMARY:Rotary Reads Service Project\, Long Neck Elementary School
DESCRIPTION:Continuing our club’s Rotary Reads Service Project at Long Neck Elementary School\, club members will meet at the school and distribute 2 grade appropriate books to all students at Long Neck Elementary.  This project is coordinated through a long standing relationship with Browse About Books and Long Neck Elementary faculty.
URL:https://longnecksunriserotaryclub.com/event/rotary-reads-service-project-long-neck-elementary-school/
END:VEVENT
END:VCALENDAR