BEGIN:VCALENDAR
VERSION:2.0
PRODID:-//Long Neck Sunrise Rotary Club - ECPv6.15.20//NONSGML v1.0//EN
CALSCALE:GREGORIAN
METHOD:PUBLISH
X-WR-CALNAME:Long Neck Sunrise Rotary Club
X-ORIGINAL-URL:https://longnecksunriserotaryclub.com
X-WR-CALDESC:Events for Long Neck Sunrise Rotary Club
REFRESH-INTERVAL;VALUE=DURATION:PT1H
X-Robots-Tag:noindex
X-PUBLISHED-TTL:PT1H
BEGIN:VTIMEZONE
TZID:America/New_York
BEGIN:DAYLIGHT
TZOFFSETFROM:-0500
TZOFFSETTO:-0400
TZNAME:EDT
DTSTART:20200308T070000
END:DAYLIGHT
BEGIN:STANDARD
TZOFFSETFROM:-0400
TZOFFSETTO:-0500
TZNAME:EST
DTSTART:20201101T060000
END:STANDARD
BEGIN:DAYLIGHT
TZOFFSETFROM:-0500
TZOFFSETTO:-0400
TZNAME:EDT
DTSTART:20210314T070000
END:DAYLIGHT
BEGIN:STANDARD
TZOFFSETFROM:-0400
TZOFFSETTO:-0500
TZNAME:EST
DTSTART:20211107T060000
END:STANDARD
BEGIN:DAYLIGHT
TZOFFSETFROM:-0500
TZOFFSETTO:-0400
TZNAME:EDT
DTSTART:20220313T070000
END:DAYLIGHT
BEGIN:STANDARD
TZOFFSETFROM:-0400
TZOFFSETTO:-0500
TZNAME:EST
DTSTART:20221106T060000
END:STANDARD
BEGIN:DAYLIGHT
TZOFFSETFROM:-0500
TZOFFSETTO:-0400
TZNAME:EDT
DTSTART:20230312T070000
END:DAYLIGHT
BEGIN:STANDARD
TZOFFSETFROM:-0400
TZOFFSETTO:-0500
TZNAME:EST
DTSTART:20231105T060000
END:STANDARD
END:VTIMEZONE
BEGIN:VEVENT
DTSTART;TZID=America/New_York:20220510T073000
DTEND;TZID=America/New_York:20220510T083000
DTSTAMP:20260425T102407
CREATED:20211106T184857Z
LAST-MODIFIED:20220502T213052Z
UID:3730-1652167800-1652171400@longnecksunriserotaryclub.com
SUMMARY:Weekly Club Meeting\, Open Meeting
DESCRIPTION:Today’s meeting is an “open meeting”\, with no guest presenter.  Provides club members with an opportunity to spend time with fellow Rotarians.
URL:https://longnecksunriserotaryclub.com/event/weekly-club-meeting-bill-newcott-film-critic-creator-of-aarps-movies-for-grownups/
END:VEVENT
BEGIN:VEVENT
DTSTART;TZID=America/New_York:20220503T073000
DTEND;TZID=America/New_York:20220503T083000
DTSTAMP:20260425T102407
CREATED:20210621T233847Z
LAST-MODIFIED:20210621T233847Z
UID:3603-1651563000-1651566600@longnecksunriserotaryclub.com
SUMMARY:Club Assembly & Committee Meetings
DESCRIPTION:Club president Apryl Parcher will conduct a club assembly sharing any pertinent information from the Board meeting with club members.  The balance of the club meeting time will be devoted to club committee meetings.
URL:https://longnecksunriserotaryclub.com/event/club-assembly-committee-meetings-19/
END:VEVENT
BEGIN:VEVENT
DTSTART;TZID=America/New_York:20220502T183000
DTEND;TZID=America/New_York:20220502T200000
DTSTAMP:20260425T102407
CREATED:20210702T184753Z
LAST-MODIFIED:20210702T184753Z
UID:3656-1651516200-1651521600@longnecksunriserotaryclub.com
SUMMARY:Club Board Meeting
DESCRIPTION:Board meeting will be held via Zoom beginning at 6:30 pm.  Please contact President Apryl Parcher for zoom sign in details.  Club members are also welcome to attend via zoom.
URL:https://longnecksunriserotaryclub.com/event/club-board-meeting-39/
END:VEVENT
BEGIN:VEVENT
DTSTART;TZID=America/New_York:20220426T073000
DTEND;TZID=America/New_York:20220426T083000
DTSTAMP:20260425T102407
CREATED:20220123T184505Z
LAST-MODIFIED:20220123T184505Z
UID:3830-1650958200-1650961800@longnecksunriserotaryclub.com
SUMMARY:Weekly Meeting\, Paul Cullen\, Paul's Kitchen
DESCRIPTION:Our guest presenter today is Paul Cullen\, owner & operator of Paul’s Kitchen.  Paul will be sharing about his eat in restaurant experience as well as his offering of an ultimate in-home dining experience.
URL:https://longnecksunriserotaryclub.com/event/weekly-meeting-paul-cullen-pauls-kitchen/
END:VEVENT
BEGIN:VEVENT
DTSTART;TZID=America/New_York:20220422T121500
DTEND;TZID=America/New_York:20220422T153000
DTSTAMP:20260425T102407
CREATED:20220317T180036Z
LAST-MODIFIED:20220317T180036Z
UID:3857-1650629700-1650641400@longnecksunriserotaryclub.com
SUMMARY:Pitch\, Hit and Run Competition for Oak Orchard Boys & Girls Club
DESCRIPTION:The Long Neck Sunrise Rotary Club is once again hosting MLB’s Pitch\, Hit & Run Competition for youngsters being served at the Oak Orchard Boys & Girls Club.  After a 2-3 hiatus due to covid\, the club will be hosting students in this fun afternoon activity of pitching\, hitting and running with winners in each age category being eligible to advance to the regional level of competition.  Setup begins at 12:15\, with youngsters arriving at 1 pm for a bit of practice on each event before the competition begins at 1:30
URL:https://longnecksunriserotaryclub.com/event/pitch-hit-and-run-competition-for-oak-orchard-boys-girls-club/
END:VEVENT
BEGIN:VEVENT
DTSTART;TZID=America/New_York:20220412T073000
DTEND;TZID=America/New_York:20220412T083000
DTSTAMP:20260425T102407
CREATED:20211213T193259Z
LAST-MODIFIED:20211213T193259Z
UID:3773-1649748600-1649752200@longnecksunriserotaryclub.com
SUMMARY:Weekly Meeting\, Kathleen Wilson\, Principal Long Neck Elementary School
DESCRIPTION:Our guest presenter today is Ms. Kathleen Wilson\, Principal of Long Neck Elementary School providing an update on our local elementary school and how our local club can continue to support & contribute to the well being and academic success of students at the elementary school.
URL:https://longnecksunriserotaryclub.com/event/weekly-meeting-kathleen-wilson-principal-long-neck-elementary-school/
END:VEVENT
BEGIN:VEVENT
DTSTART;TZID=America/New_York:20220405T073000
DTEND;TZID=America/New_York:20220405T083000
DTSTAMP:20260425T102407
CREATED:20210621T233734Z
LAST-MODIFIED:20210621T233734Z
UID:3601-1649143800-1649147400@longnecksunriserotaryclub.com
SUMMARY:Club Assembly & Committee Meetings
DESCRIPTION:Club president Apryl Parcher will conduct a club assembly sharing any pertinent information from the Board meeting with club members.  The balance of the club meeting time will be devoted to club committee meetings.
URL:https://longnecksunriserotaryclub.com/event/club-assembly-committee-meetings-18/
END:VEVENT
BEGIN:VEVENT
DTSTART;TZID=America/New_York:20220404T183000
DTEND;TZID=America/New_York:20220404T200000
DTSTAMP:20260425T102407
CREATED:20210702T184706Z
LAST-MODIFIED:20210702T184706Z
UID:3654-1649097000-1649102400@longnecksunriserotaryclub.com
SUMMARY:Club Board Meeting
DESCRIPTION:Board meeting will be held via Zoom beginning at 6:30 pm.  Please contact President Apryl Parcher for zoom sign in details.  Club members are also welcome to attend via zoom.
URL:https://longnecksunriserotaryclub.com/event/club-board-meeting-38/
END:VEVENT
BEGIN:VEVENT
DTSTART;TZID=America/New_York:20220329T173000
DTEND;TZID=America/New_York:20220329T193000
DTSTAMP:20260425T102407
CREATED:20220321T153307Z
LAST-MODIFIED:20220321T153326Z
UID:3876-1648575000-1648582200@longnecksunriserotaryclub.com
SUMMARY:Long Neck Sunrise Happy Hour Event at Seaside Fish House
DESCRIPTION:On this 5th Tuesday in March\, no morning breakfast club meeting!! Meeting today is a Social gathering at the Seaside Fish House\, 32368 Long Neck Road in Millsboro. beginning at 5:30.
URL:https://longnecksunriserotaryclub.com/event/long-neck-sunrise-happy-hour-event-at-seaside-fish-house/
END:VEVENT
BEGIN:VEVENT
DTSTART;TZID=America/New_York:20220327T083000
DTEND;TZID=America/New_York:20220327T103000
DTSTAMP:20260425T102407
CREATED:20220321T152050Z
LAST-MODIFIED:20220321T152050Z
UID:3872-1648369800-1648377000@longnecksunriserotaryclub.com
SUMMARY:Service Project\, Adopt a Highway Cleanup
DESCRIPTION:Club members will meet at Ocean Grill to complete our quarterly Long Neck Road highway cleanup activity.
URL:https://longnecksunriserotaryclub.com/event/service-project-adopt-a-highway-cleanup-8/
END:VEVENT
BEGIN:VEVENT
DTSTART;TZID=America/New_York:20220325T153000
DTEND;TZID=America/New_York:20220325T163000
DTSTAMP:20260425T102407
CREATED:20220321T152951Z
LAST-MODIFIED:20220321T152951Z
UID:3874-1648222200-1648225800@longnecksunriserotaryclub.com
SUMMARY:March Birthday Bash Celebration at Oak Orchard Boys & Girls Club
DESCRIPTION:Rotary Club Sponsored Birthday Celebration for youngsters& staff at the Oak Orchard Boys & Girls Club\, complete with Birthday Cupcakes & drinks for all and a $25 Visa Birthday Gift Card for each youngster 7 staff member with a birthday during March.  Festivities begin at 3:45 pm.
URL:https://longnecksunriserotaryclub.com/event/march-birthday-bash-celebration-at-oak-orchard-boys-girls-club-2/
END:VEVENT
BEGIN:VEVENT
DTSTART;TZID=America/New_York:20220322T073000
DTEND;TZID=America/New_York:20220322T083000
DTSTAMP:20260425T102407
CREATED:20211213T193005Z
LAST-MODIFIED:20211213T193005Z
UID:3771-1647934200-1647937800@longnecksunriserotaryclub.com
SUMMARY:Weekly Meeting\, Dr. Jay Owens\, Superintendent Indian River School District
DESCRIPTION:Our guest presenter today is Dr. Jay Owens\, Superintendent of the Indian River School District providing an update on the challenges and issues facing the school district and how local community/civic organizations can support local schools.
URL:https://longnecksunriserotaryclub.com/event/weekly-meeting-dr-jay-owens-superintendent-indian-river-school-district/
END:VEVENT
BEGIN:VEVENT
DTSTART;TZID=America/New_York:20220315T073000
DTEND;TZID=America/New_York:20220315T083000
DTSTAMP:20260425T102407
CREATED:20211112T143702Z
LAST-MODIFIED:20211112T143702Z
UID:3739-1647329400-1647333000@longnecksunriserotaryclub.com
SUMMARY:Weekly Club Meeting\, Tom Talley & DGN John Mager\, Ghana Water & Sanitation Global Grant
DESCRIPTION:Our guest presenters today are Tom Talley & DGN John Mager from the Brandywine Naamans Rotary Club who will update our club on the Ghana Water & Sanitation Global Grant in which our club will be assisting with funding.
URL:https://longnecksunriserotaryclub.com/event/weekly-club-meeting-tom-talley-dgn-john-mager-ghana-water-sanitation-global-grant/
END:VEVENT
BEGIN:VEVENT
DTSTART;TZID=America/New_York:20220308T073000
DTEND;TZID=America/New_York:20220308T083000
DTSTAMP:20260425T102407
CREATED:20210702T160150Z
LAST-MODIFIED:20210702T160150Z
UID:3628-1646724600-1646728200@longnecksunriserotaryclub.com
SUMMARY:Club Assembly & Committee Meetings
DESCRIPTION:Club president Apryl Parcher will conduct a club assembly sharing any pertinent information from the Board meeting with club members.  The balance of the club meeting time will be devoted to club committee meetings.
URL:https://longnecksunriserotaryclub.com/event/club-assembly-committee-meetings-23/
END:VEVENT
BEGIN:VEVENT
DTSTART;TZID=America/New_York:20220307T183000
DTEND;TZID=America/New_York:20220307T200000
DTSTAMP:20260425T102407
CREATED:20210702T184605Z
LAST-MODIFIED:20210702T184605Z
UID:3652-1646677800-1646683200@longnecksunriserotaryclub.com
SUMMARY:Club Board Meeting
DESCRIPTION:Board meeting will be held via Zoom beginning at 6:30 pm.  Please contact President Apryl Parcher for zoom sign in details.  Club members are also welcome to attend via zoom.
URL:https://longnecksunriserotaryclub.com/event/club-board-meeting-37/
END:VEVENT
BEGIN:VEVENT
DTSTART;TZID=America/New_York:20220301T073000
DTEND;TZID=America/New_York:20220301T083000
DTSTAMP:20260425T102407
CREATED:20211210T214138Z
LAST-MODIFIED:20220123T183839Z
UID:3768-1646119800-1646123400@longnecksunriserotaryclub.com
SUMMARY:Weekly Club Meeting\, Chuck Eicholz\, The Journey of a Zoo Curator
DESCRIPTION:Our guest presenter today is Mr. Chuck Eicholz\, Curator of the Salisbury Zoo.  He will be sharing the life long journey that has led up to his role as the Curator of the Salisbury Zoo and the responsibilities entailed in that role.
URL:https://longnecksunriserotaryclub.com/event/weekly-club-meeting-chuck-eicholz-the-journey-of-a-zoo-curator/
END:VEVENT
BEGIN:VEVENT
DTSTART;TZID=America/New_York:20220222T073000
DTEND;TZID=America/New_York:20220222T083000
DTSTAMP:20260425T102407
CREATED:20211106T184203Z
LAST-MODIFIED:20211207T202527Z
UID:3725-1645515000-1645518600@longnecksunriserotaryclub.com
SUMMARY:Weekly Club Meeting\, Kevin Reading\, New Club Member Autobiography
DESCRIPTION:A special welcome to one of our new club members\, Kevin Reading\, who will provide the club with his autobiography.
URL:https://longnecksunriserotaryclub.com/event/weekly-club-meeting-kevin-reading-new-club-member-autobiography/
END:VEVENT
BEGIN:VEVENT
DTSTART;TZID=America/New_York:20220215T073000
DTEND;TZID=America/New_York:20220215T083000
DTSTAMP:20260425T102407
CREATED:20211106T184546Z
LAST-MODIFIED:20211110T145353Z
UID:3728-1644910200-1644913800@longnecksunriserotaryclub.com
SUMMARY:Weekly Club Meeting\, Marilyn Moore\, New Club Member Autobiography
DESCRIPTION:A special welcome to one of our new club members\, Marilyn Moore\, who will provide the club with her autobiography.
URL:https://longnecksunriserotaryclub.com/event/weekly-club-meeting-marilyn-moore-new-club-member-autobiography/
END:VEVENT
BEGIN:VEVENT
DTSTART;TZID=America/New_York:20220208T073000
DTEND;TZID=America/New_York:20220208T083000
DTSTAMP:20260425T102407
CREATED:20210702T160033Z
LAST-MODIFIED:20210702T160033Z
UID:3626-1644305400-1644309000@longnecksunriserotaryclub.com
SUMMARY:Club Assembly & Committee Meetings
DESCRIPTION:Club president Apryl Parcher will conduct a club assembly sharing any pertinent information from the Board meeting with club members.  The balance of the club meeting time will be devoted to club committee meetings.
URL:https://longnecksunriserotaryclub.com/event/club-assembly-committee-meetings-22/
END:VEVENT
BEGIN:VEVENT
DTSTART;TZID=America/New_York:20220207T183000
DTEND;TZID=America/New_York:20220207T200000
DTSTAMP:20260425T102407
CREATED:20210702T184508Z
LAST-MODIFIED:20210702T184508Z
UID:3650-1644258600-1644264000@longnecksunriserotaryclub.com
SUMMARY:Club Board Meeting
DESCRIPTION:Board meeting will be held via Zoom beginning at 6:30 pm.  Please contact President Apryl Parcher for zoom sign in details.  Club members are also welcome to attend via zoom.
URL:https://longnecksunriserotaryclub.com/event/club-board-meeting-36/
END:VEVENT
BEGIN:VEVENT
DTSTART;TZID=America/New_York:20220201T073000
DTEND;TZID=America/New_York:20220201T083000
DTSTAMP:20260425T102407
CREATED:20211106T185109Z
LAST-MODIFIED:20220118T023429Z
UID:3732-1643700600-1643704200@longnecksunriserotaryclub.com
SUMMARY:Weekly Club Meeting\, Cathy Gorman\, Professional Singer (Zoom Only)
DESCRIPTION:Our guest presenter today will be Ms. Cathy Gorman\, a professional singer\, who will both entertain us and share about her life as a professional performer.
URL:https://longnecksunriserotaryclub.com/event/weekly-club-meeting-cathy-gorman-professional-singer/
END:VEVENT
BEGIN:VEVENT
DTSTART;TZID=America/New_York:20220125T083000
DTEND;TZID=America/New_York:20220125T093000
DTSTAMP:20260425T102407
CREATED:20220108T155036Z
LAST-MODIFIED:20220118T023659Z
UID:3803-1643099400-1643103000@longnecksunriserotaryclub.com
SUMMARY:Golf Tournament Planning Committee Meeting (Zoom Only)
DESCRIPTION:Golf Tournament Planning Committee will meet via zoom immediately following the morning club meeting.  Zoom meeting will continue for committee members and any other club member who wishes to join.
URL:https://longnecksunriserotaryclub.com/event/golf-tournament-planning-committee-meeting/
END:VEVENT
BEGIN:VEVENT
DTSTART;TZID=America/New_York:20220125T073000
DTEND;TZID=America/New_York:20220125T083000
DTSTAMP:20260425T102407
CREATED:20220112T181215Z
LAST-MODIFIED:20220118T023320Z
UID:3817-1643095800-1643099400@longnecksunriserotaryclub.com
SUMMARY:Weekly Club Meeting\, Apryl Parcher\, Club Member Autobiography (Zoom only)
DESCRIPTION:Our club member and current club president will provide her club member autobiography so that both long term club members and new club members will get to know Apryl a bit better.
URL:https://longnecksunriserotaryclub.com/event/weekly-club-meeting-apryl-parcher-club-member-autobiography/
END:VEVENT
BEGIN:VEVENT
DTSTART;TZID=America/New_York:20220118T073000
DTEND;TZID=America/New_York:20220118T083000
DTSTAMP:20260425T102407
CREATED:20211110T145634Z
LAST-MODIFIED:20220118T023144Z
UID:3737-1642491000-1642494600@longnecksunriserotaryclub.com
SUMMARY:Weekly Club Meeting\, Louise Doe\, Special Olympics Delaware (Zoom only)
DESCRIPTION:Ms. Louise Doe from Special Olympics Delaware will be our guest presenter today.  She is the Director of Volunteers & Athlete Initiatives for Special Olympics Delaware sharing about the work of the Special Olympics and how to become involved as volunteers.
URL:https://longnecksunriserotaryclub.com/event/weekly-club-meeting-leslie-doe-special-olympics-delaware/
END:VEVENT
BEGIN:VEVENT
DTSTART;TZID=America/New_York:20220104T073000
DTEND;TZID=America/New_York:20220104T083000
DTSTAMP:20260425T102407
CREATED:20210621T233614Z
LAST-MODIFIED:20211207T202930Z
UID:3599-1641281400-1641285000@longnecksunriserotaryclub.com
SUMMARY:No Club Meeting
DESCRIPTION:No Club Meeting  as Club Members Continue to enjoy their New Year’s holiday.
URL:https://longnecksunriserotaryclub.com/event/club-assembly-committee-meetings-17/
END:VEVENT
BEGIN:VEVENT
DTSTART;TZID=America/New_York:20220103T183000
DTEND;TZID=America/New_York:20220103T200000
DTSTAMP:20260425T102407
CREATED:20210702T184404Z
LAST-MODIFIED:20210702T184404Z
UID:3648-1641234600-1641240000@longnecksunriserotaryclub.com
SUMMARY:Club Board Meeting
DESCRIPTION:Board meeting will be held via Zoom beginning at 6:30 pm.  Please contact President Apryl Parcher for zoom sign in details.  Club members are also welcome to attend via zoom.
URL:https://longnecksunriserotaryclub.com/event/club-board-meeting-35/
END:VEVENT
BEGIN:VEVENT
DTSTART;TZID=America/New_York:20211228T073000
DTEND;TZID=America/New_York:20211228T083000
DTSTAMP:20260425T102407
CREATED:20211207T203056Z
LAST-MODIFIED:20211207T203056Z
UID:3765-1640676600-1640680200@longnecksunriserotaryclub.com
SUMMARY:No Club Meeting
DESCRIPTION:No Club Meeting as Club members continue to enjoy the Christmas holidays.
URL:https://longnecksunriserotaryclub.com/event/no-club-meeting-6/
END:VEVENT
BEGIN:VEVENT
DTSTART;TZID=America/New_York:20211221T073000
DTEND;TZID=America/New_York:20211221T083000
DTSTAMP:20260425T102407
CREATED:20210702T185845Z
LAST-MODIFIED:20210702T185846Z
UID:3662-1640071800-1640075400@longnecksunriserotaryclub.com
SUMMARY:Weekly Club Meeting\, Patrick Carney\, Senior Medicare Patrol
DESCRIPTION:Our guest presenter this week is Patrick Carney with Senior Medicare Patrol sharing insights and information about scams and potential fraudulent practices involving Medicare and how individuals covered by Medicare can be alert to fraudulent Medicare claims.
URL:https://longnecksunriserotaryclub.com/event/weekly-club-meeting-patrick-carney-senior-medicare-patrol/
END:VEVENT
BEGIN:VEVENT
DTSTART;TZID=America/New_York:20211214T073000
DTEND;TZID=America/New_York:20211214T083000
DTSTAMP:20260425T102407
CREATED:20211106T183941Z
LAST-MODIFIED:20211106T183941Z
UID:3721-1639467000-1639470600@longnecksunriserotaryclub.com
SUMMARY:Weekly Club Meeting\,  Philip Messick\, New Club Member Autobiography
DESCRIPTION:A special welcome to one of our new club members\, Philip Messick\, who will provide the club with his autobiography.
URL:https://longnecksunriserotaryclub.com/event/weekly-club-meeting-philip-messick-new-club-member-autobiography/
END:VEVENT
BEGIN:VEVENT
DTSTART;TZID=America/New_York:20211211T150000
DTEND;TZID=America/New_York:20211211T180000
DTSTAMP:20260425T102407
CREATED:20211123T180540Z
LAST-MODIFIED:20211123T180540Z
UID:3759-1639234800-1639245600@longnecksunriserotaryclub.com
SUMMARY:A Community Holiday Stroll of Retail Shops and Restaurants at Taormina Square
DESCRIPTION:The Long Neck Sunrise Rotary Club and Silicato Development are pleased to sponsor a Community Holiday Stroll at the shops and restaurants at Taormina Square\, the retail shopping center located on Route 24 and Silicato Drive in Long Neck. The stroll will take place on Saturday\, December 11\, 2021 from 3-6 pm and will feature complementary food samples by participating restaurants and product offerings by retailers. All will be done within an “open house” environment and visitors are encouraged to provide a $10 donation/family which will be given to the Oak Orchard Boys and Girls Club for their children’s holiday party. Boxes for donations will be positioned at tables along Silicato Drive. \nThe restaurants and shops participating include: Brick Works\, Two Meatballs\, Yellowfins\, Taste of the South\, Maggie’s Pet Boutique\, Blooming Boutique\, Nails at Taormina\, My Ceramics\, Vogue on 24 and Bayside Gifts. \n 
URL:https://longnecksunriserotaryclub.com/event/a-community-holiday-stroll-of-retail-shops-and-restaurants-at-taormina-square/
END:VEVENT
END:VCALENDAR