BEGIN:VCALENDAR
VERSION:2.0
PRODID:-//Long Neck Sunrise Rotary Club - ECPv6.15.20//NONSGML v1.0//EN
CALSCALE:GREGORIAN
METHOD:PUBLISH
X-ORIGINAL-URL:https://longnecksunriserotaryclub.com
X-WR-CALDESC:Events for Long Neck Sunrise Rotary Club
REFRESH-INTERVAL;VALUE=DURATION:PT1H
X-Robots-Tag:noindex
X-PUBLISHED-TTL:PT1H
BEGIN:VTIMEZONE
TZID:America/New_York
BEGIN:DAYLIGHT
TZOFFSETFROM:-0500
TZOFFSETTO:-0400
TZNAME:EDT
DTSTART:20210314T070000
END:DAYLIGHT
BEGIN:STANDARD
TZOFFSETFROM:-0400
TZOFFSETTO:-0500
TZNAME:EST
DTSTART:20211107T060000
END:STANDARD
BEGIN:DAYLIGHT
TZOFFSETFROM:-0500
TZOFFSETTO:-0400
TZNAME:EDT
DTSTART:20220313T070000
END:DAYLIGHT
BEGIN:STANDARD
TZOFFSETFROM:-0400
TZOFFSETTO:-0500
TZNAME:EST
DTSTART:20221106T060000
END:STANDARD
BEGIN:DAYLIGHT
TZOFFSETFROM:-0500
TZOFFSETTO:-0400
TZNAME:EDT
DTSTART:20230312T070000
END:DAYLIGHT
BEGIN:STANDARD
TZOFFSETFROM:-0400
TZOFFSETTO:-0500
TZNAME:EST
DTSTART:20231105T060000
END:STANDARD
END:VTIMEZONE
BEGIN:VEVENT
DTSTART;TZID=America/New_York:20221201T170000
DTEND;TZID=America/New_York:20221201T190000
DTSTAMP:20260424T003528
CREATED:20221123T195439Z
LAST-MODIFIED:20221123T195439Z
UID:4073-1669914000-1669921200@longnecksunriserotaryclub.com
SUMMARY:Happy Hour-Brickworks
DESCRIPTION:
URL:https://longnecksunriserotaryclub.com/event/happy-hour-brickworks/
END:VEVENT
BEGIN:VEVENT
DTSTART;TZID=America/New_York:20221206T073000
DTEND;TZID=America/New_York:20221206T083000
DTSTAMP:20260424T003528
CREATED:20221123T195935Z
LAST-MODIFIED:20221123T195935Z
UID:4075-1670311800-1670315400@longnecksunriserotaryclub.com
SUMMARY:Weekly Meeting- Theresa Townsend from Wreaths Across America
DESCRIPTION:
URL:https://longnecksunriserotaryclub.com/event/weekly-meeting-theresa-townsend-from-wreaths-across-america/
END:VEVENT
BEGIN:VEVENT
DTSTART;TZID=America/New_York:20221210T120000
DTEND;TZID=America/New_York:20221210T170000
DTSTAMP:20260424T003528
CREATED:20221123T200206Z
LAST-MODIFIED:20221123T200206Z
UID:4079-1670673600-1670691600@longnecksunriserotaryclub.com
SUMMARY:Community Holiday Stroll
DESCRIPTION:
URL:https://longnecksunriserotaryclub.com/event/community-holiday-stroll/
END:VEVENT
BEGIN:VEVENT
DTSTART;TZID=America/New_York:20221213T073000
DTEND;TZID=America/New_York:20221213T083000
DTSTAMP:20260424T003528
CREATED:20221123T200033Z
LAST-MODIFIED:20221123T200033Z
UID:4077-1670916600-1670920200@longnecksunriserotaryclub.com
SUMMARY:Weekly Meeting- Don Jones
DESCRIPTION:
URL:https://longnecksunriserotaryclub.com/event/weekly-meeting-don-jones/
END:VEVENT
BEGIN:VEVENT
DTSTART;TZID=America/New_York:20221213T073000
DTEND;TZID=America/New_York:20221213T083000
DTSTAMP:20260424T003528
CREATED:20230531T225903Z
LAST-MODIFIED:20230531T225903Z
UID:4032-1670916600-1670920200@longnecksunriserotaryclub.com
SUMMARY:Weekly Meeting-Speaker Lynn Jones and Don Parsons Purchase of Care
DESCRIPTION:
URL:https://longnecksunriserotaryclub.com/event/weekly-meeting-speaker-lynn-jones-and-don-parsons-purchase-of-care/
END:VEVENT
END:VCALENDAR