BEGIN:VCALENDAR
VERSION:2.0
PRODID:-//Long Neck Sunrise Rotary Club - ECPv6.15.20//NONSGML v1.0//EN
CALSCALE:GREGORIAN
METHOD:PUBLISH
X-WR-CALNAME:Long Neck Sunrise Rotary Club
X-ORIGINAL-URL:https://longnecksunriserotaryclub.com
X-WR-CALDESC:Events for Long Neck Sunrise Rotary Club
REFRESH-INTERVAL;VALUE=DURATION:PT1H
X-Robots-Tag:noindex
X-PUBLISHED-TTL:PT1H
BEGIN:VTIMEZONE
TZID:America/New_York
BEGIN:DAYLIGHT
TZOFFSETFROM:-0500
TZOFFSETTO:-0400
TZNAME:EDT
DTSTART:20220313T070000
END:DAYLIGHT
BEGIN:STANDARD
TZOFFSETFROM:-0400
TZOFFSETTO:-0500
TZNAME:EST
DTSTART:20221106T060000
END:STANDARD
BEGIN:DAYLIGHT
TZOFFSETFROM:-0500
TZOFFSETTO:-0400
TZNAME:EDT
DTSTART:20230312T070000
END:DAYLIGHT
BEGIN:STANDARD
TZOFFSETFROM:-0400
TZOFFSETTO:-0500
TZNAME:EST
DTSTART:20231105T060000
END:STANDARD
BEGIN:DAYLIGHT
TZOFFSETFROM:-0500
TZOFFSETTO:-0400
TZNAME:EDT
DTSTART:20240310T070000
END:DAYLIGHT
BEGIN:STANDARD
TZOFFSETFROM:-0400
TZOFFSETTO:-0500
TZNAME:EST
DTSTART:20241103T060000
END:STANDARD
END:VTIMEZONE
BEGIN:VEVENT
DTSTART;TZID=America/New_York:20230710T180000
DTEND;TZID=America/New_York:20230710T193000
DTSTAMP:20260423T044604
CREATED:20230701T190642Z
LAST-MODIFIED:20230701T190642Z
UID:4298-1689012000-1689017400@longnecksunriserotaryclub.com
SUMMARY:Board Meeting
DESCRIPTION:President Ryan to provide Zoom link.
URL:https://longnecksunriserotaryclub.com/event/board-meeting-3/
END:VEVENT
BEGIN:VEVENT
DTSTART;TZID=America/New_York:20230711T073000
DTEND;TZID=America/New_York:20230711T080000
DTSTAMP:20260423T044604
CREATED:20230701T190346Z
LAST-MODIFIED:20230701T190346Z
UID:4296-1689060600-1689062400@longnecksunriserotaryclub.com
SUMMARY:An Update on Long Neck Elementary
DESCRIPTION:Kathleen Wilson\, Principal of Long Neck Elementary will provide an update on the school.
URL:https://longnecksunriserotaryclub.com/event/an-update-on-long-neck-elementary/
END:VEVENT
BEGIN:VEVENT
DTSTART;TZID=America/New_York:20230716T083000
DTEND;TZID=America/New_York:20230716T093000
DTSTAMP:20260423T044604
CREATED:20230701T190752Z
LAST-MODIFIED:20230701T190752Z
UID:4300-1689496200-1689499800@longnecksunriserotaryclub.com
SUMMARY:Road Clean Up of Long Neck Road
DESCRIPTION:Group to meet at Ocean Grill Diner.
URL:https://longnecksunriserotaryclub.com/event/road-clean-up-of-long-neck-road/
END:VEVENT
BEGIN:VEVENT
DTSTART;TZID=America/New_York:20230718T073000
DTEND;TZID=America/New_York:20230718T083000
DTSTAMP:20260423T044604
CREATED:20230711T162439Z
LAST-MODIFIED:20230711T162439Z
UID:4329-1689665400-1689669000@longnecksunriserotaryclub.com
SUMMARY:Delaware Deaf Senior Citizens/Deaf Fest
DESCRIPTION:A unique opportunity to learn firsthand — with the assistance of a certified American Sign Language Interpreter — about our local deaf community\, their culture\, and specifically our Seniors and Deaf Fest!  Let’s show our support and learn about raising awareness of our deaf neighbors in Sussex County. \nBarbara White\, Allen Talbert — DE Deaf Senior Citizens \nTheresa Muschiatti — certified ASL Interpreter
URL:https://longnecksunriserotaryclub.com/event/delaware-deaf-senior-citizens-deaf-fest/
END:VEVENT
BEGIN:VEVENT
DTSTART;TZID=America/New_York:20230725T073000
DTEND;TZID=America/New_York:20230725T083000
DTSTAMP:20260423T044604
CREATED:20230701T190852Z
LAST-MODIFIED:20230701T190852Z
UID:4302-1690270200-1690273800@longnecksunriserotaryclub.com
SUMMARY:Mini Project
DESCRIPTION:A Rotary Group project to be determined
URL:https://longnecksunriserotaryclub.com/event/mini-project/
END:VEVENT
END:VCALENDAR