BEGIN:VCALENDAR
VERSION:2.0
PRODID:-//Long Neck Sunrise Rotary Club - ECPv6.15.20//NONSGML v1.0//EN
CALSCALE:GREGORIAN
METHOD:PUBLISH
X-ORIGINAL-URL:https://longnecksunriserotaryclub.com
X-WR-CALDESC:Events for Long Neck Sunrise Rotary Club
REFRESH-INTERVAL;VALUE=DURATION:PT1H
X-Robots-Tag:noindex
X-PUBLISHED-TTL:PT1H
BEGIN:VTIMEZONE
TZID:America/New_York
BEGIN:DAYLIGHT
TZOFFSETFROM:-0500
TZOFFSETTO:-0400
TZNAME:EDT
DTSTART:20230312T070000
END:DAYLIGHT
BEGIN:STANDARD
TZOFFSETFROM:-0400
TZOFFSETTO:-0500
TZNAME:EST
DTSTART:20231105T060000
END:STANDARD
BEGIN:DAYLIGHT
TZOFFSETFROM:-0500
TZOFFSETTO:-0400
TZNAME:EDT
DTSTART:20240310T070000
END:DAYLIGHT
BEGIN:STANDARD
TZOFFSETFROM:-0400
TZOFFSETTO:-0500
TZNAME:EST
DTSTART:20241103T060000
END:STANDARD
BEGIN:DAYLIGHT
TZOFFSETFROM:-0500
TZOFFSETTO:-0400
TZNAME:EDT
DTSTART:20250309T070000
END:DAYLIGHT
BEGIN:STANDARD
TZOFFSETFROM:-0400
TZOFFSETTO:-0500
TZNAME:EST
DTSTART:20251102T060000
END:STANDARD
END:VTIMEZONE
BEGIN:VEVENT
DTSTART;TZID=America/New_York:20240806T073000
DTEND;TZID=America/New_York:20240806T083000
DTSTAMP:20260421T060639
CREATED:20240721T194347Z
LAST-MODIFIED:20240721T194347Z
UID:4735-1722929400-1722933000@longnecksunriserotaryclub.com
SUMMARY:No Meeting
DESCRIPTION:
URL:https://longnecksunriserotaryclub.com/event/no-meeting-12/
END:VEVENT
BEGIN:VEVENT
DTSTART;TZID=America/New_York:20240813T073000
DTEND;TZID=America/New_York:20240813T083000
DTSTAMP:20260421T060639
CREATED:20240708T154504Z
LAST-MODIFIED:20240721T183109Z
UID:4708-1723534200-1723537800@longnecksunriserotaryclub.com
SUMMARY:Rotarian Apryl Parcher
DESCRIPTION:Apryl will update us on the journey she has taken in terms of her diet to improve her overall health.
URL:https://longnecksunriserotaryclub.com/event/rotarian-apryl-parcher/
END:VEVENT
BEGIN:VEVENT
DTSTART;TZID=America/New_York:20240815T180000
DTEND;TZID=America/New_York:20240815T193000
DTSTAMP:20260421T060639
CREATED:20240721T183152Z
LAST-MODIFIED:20240802T205642Z
UID:4733-1723744800-1723750200@longnecksunriserotaryclub.com
SUMMARY:Board Dinner
DESCRIPTION:The board will meet for dinner with no meeting agenda.
URL:https://longnecksunriserotaryclub.com/event/board-meeting-15/
END:VEVENT
BEGIN:VEVENT
DTSTART;TZID=America/New_York:20240820T073000
DTEND;TZID=America/New_York:20240820T083000
DTSTAMP:20260421T060639
CREATED:20240721T194417Z
LAST-MODIFIED:20240721T194426Z
UID:4737-1724139000-1724142600@longnecksunriserotaryclub.com
SUMMARY:No Meeting
DESCRIPTION:
URL:https://longnecksunriserotaryclub.com/event/no-meeting-13/
END:VEVENT
BEGIN:VEVENT
DTSTART;TZID=America/New_York:20240820T150000
DTEND;TZID=America/New_York:20240820T160000
DTSTAMP:20260421T060639
CREATED:20240814T185939Z
LAST-MODIFIED:20240814T185939Z
UID:4745-1724166000-1724169600@longnecksunriserotaryclub.com
SUMMARY:Birthday Bash at Oak Orchard Boys and Girls Club
DESCRIPTION:
URL:https://longnecksunriserotaryclub.com/event/birthday-bash-at-oak-orchard-boys-and-girls-club/
END:VEVENT
BEGIN:VEVENT
DTSTART;TZID=America/New_York:20240827T073000
DTEND;TZID=America/New_York:20240827T083000
DTSTAMP:20260421T060639
CREATED:20240708T154615Z
LAST-MODIFIED:20240708T154615Z
UID:4710-1724743800-1724747400@longnecksunriserotaryclub.com
SUMMARY:District Governor Randy Smith
DESCRIPTION:Randy Smith will present his district vision.
URL:https://longnecksunriserotaryclub.com/event/district-governor-randy-smith/
END:VEVENT
END:VCALENDAR