BEGIN:VCALENDAR
VERSION:2.0
PRODID:-//Long Neck Sunrise Rotary Club - ECPv6.15.20//NONSGML v1.0//EN
CALSCALE:GREGORIAN
METHOD:PUBLISH
X-ORIGINAL-URL:https://longnecksunriserotaryclub.com
X-WR-CALDESC:Events for Long Neck Sunrise Rotary Club
REFRESH-INTERVAL;VALUE=DURATION:PT1H
X-Robots-Tag:noindex
X-PUBLISHED-TTL:PT1H
BEGIN:VTIMEZONE
TZID:America/New_York
BEGIN:DAYLIGHT
TZOFFSETFROM:-0500
TZOFFSETTO:-0400
TZNAME:EDT
DTSTART:20230312T070000
END:DAYLIGHT
BEGIN:STANDARD
TZOFFSETFROM:-0400
TZOFFSETTO:-0500
TZNAME:EST
DTSTART:20231105T060000
END:STANDARD
BEGIN:DAYLIGHT
TZOFFSETFROM:-0500
TZOFFSETTO:-0400
TZNAME:EDT
DTSTART:20240310T070000
END:DAYLIGHT
BEGIN:STANDARD
TZOFFSETFROM:-0400
TZOFFSETTO:-0500
TZNAME:EST
DTSTART:20241103T060000
END:STANDARD
BEGIN:DAYLIGHT
TZOFFSETFROM:-0500
TZOFFSETTO:-0400
TZNAME:EDT
DTSTART:20250309T070000
END:DAYLIGHT
BEGIN:STANDARD
TZOFFSETFROM:-0400
TZOFFSETTO:-0500
TZNAME:EST
DTSTART:20251102T060000
END:STANDARD
END:VTIMEZONE
BEGIN:VEVENT
DTSTART;TZID=America/New_York:20241001T073000
DTEND;TZID=America/New_York:20241001T083000
DTSTAMP:20260421T092053
CREATED:20240708T154949Z
LAST-MODIFIED:20240929T160521Z
UID:4718-1727767800-1727771400@longnecksunriserotaryclub.com
SUMMARY:Member Bio
DESCRIPTION:
URL:https://longnecksunriserotaryclub.com/event/allen-miller-oak-orchard-church/
END:VEVENT
BEGIN:VEVENT
DTSTART;TZID=America/New_York:20241008T073000
DTEND;TZID=America/New_York:20241008T083000
DTSTAMP:20260421T092053
CREATED:20240925T195026Z
LAST-MODIFIED:20240925T195026Z
UID:4788-1728372600-1728376200@longnecksunriserotaryclub.com
SUMMARY:Club Assembly
DESCRIPTION:Members will discuss club business and opportunities.
URL:https://longnecksunriserotaryclub.com/event/club-assembly-8/
END:VEVENT
BEGIN:VEVENT
DTSTART;TZID=America/New_York:20241015T073000
DTEND;TZID=America/New_York:20241015T083000
DTSTAMP:20260421T092053
CREATED:20240708T155037Z
LAST-MODIFIED:20240814T190907Z
UID:4720-1728977400-1728981000@longnecksunriserotaryclub.com
SUMMARY:Rehoboth Film Society
DESCRIPTION:Helen Chamberlin will educate us on the Society.
URL:https://longnecksunriserotaryclub.com/event/helen-from-the-rehoboth-film-society/
END:VEVENT
BEGIN:VEVENT
DTSTART;TZID=America/New_York:20241025T160000
DTEND;TZID=America/New_York:20241025T170000
DTSTAMP:20260421T092053
CREATED:20241022T205718Z
LAST-MODIFIED:20241022T205718Z
UID:4814-1729872000-1729875600@longnecksunriserotaryclub.com
SUMMARY:Birthday Bash Oak Orchard Boys and Girls Club
DESCRIPTION:
URL:https://longnecksunriserotaryclub.com/event/birthday-bash-oak-orchard-boys-and-girls-club/
END:VEVENT
BEGIN:VEVENT
DTSTART;TZID=America/New_York:20241026T090000
DTEND;TZID=America/New_York:20241026T090000
DTSTAMP:20260421T092053
CREATED:20240924T200905Z
LAST-MODIFIED:20240924T200905Z
UID:4765-1729933200-1729933200@longnecksunriserotaryclub.com
SUMMARY:Highway Clean Up
DESCRIPTION:Meet at Ocean Grill Diner.
URL:https://longnecksunriserotaryclub.com/event/highway-clean-up/
END:VEVENT
BEGIN:VEVENT
DTSTART;TZID=America/New_York:20241029T073000
DTEND;TZID=America/New_York:20241029T083000
DTSTAMP:20260421T092053
CREATED:20240814T190947Z
LAST-MODIFIED:20240814T190947Z
UID:4755-1730187000-1730190600@longnecksunriserotaryclub.com
SUMMARY:No Meeting
DESCRIPTION:
URL:https://longnecksunriserotaryclub.com/event/no-meeting-15/
END:VEVENT
END:VCALENDAR