BEGIN:VCALENDAR
VERSION:2.0
PRODID:-//Long Neck Sunrise Rotary Club - ECPv6.15.20//NONSGML v1.0//EN
CALSCALE:GREGORIAN
METHOD:PUBLISH
X-ORIGINAL-URL:https://longnecksunriserotaryclub.com
X-WR-CALDESC:Events for Long Neck Sunrise Rotary Club
REFRESH-INTERVAL;VALUE=DURATION:PT1H
X-Robots-Tag:noindex
X-PUBLISHED-TTL:PT1H
BEGIN:VTIMEZONE
TZID:America/New_York
BEGIN:DAYLIGHT
TZOFFSETFROM:-0500
TZOFFSETTO:-0400
TZNAME:EDT
DTSTART:20240310T070000
END:DAYLIGHT
BEGIN:STANDARD
TZOFFSETFROM:-0400
TZOFFSETTO:-0500
TZNAME:EST
DTSTART:20241103T060000
END:STANDARD
BEGIN:DAYLIGHT
TZOFFSETFROM:-0500
TZOFFSETTO:-0400
TZNAME:EDT
DTSTART:20250309T070000
END:DAYLIGHT
BEGIN:STANDARD
TZOFFSETFROM:-0400
TZOFFSETTO:-0500
TZNAME:EST
DTSTART:20251102T060000
END:STANDARD
BEGIN:DAYLIGHT
TZOFFSETFROM:-0500
TZOFFSETTO:-0400
TZNAME:EDT
DTSTART:20260308T070000
END:DAYLIGHT
BEGIN:STANDARD
TZOFFSETFROM:-0400
TZOFFSETTO:-0500
TZNAME:EST
DTSTART:20261101T060000
END:STANDARD
END:VTIMEZONE
BEGIN:VEVENT
DTSTART;TZID=America/New_York:20250401T073000
DTEND;TZID=America/New_York:20250401T083000
DTSTAMP:20260422T051903
CREATED:20250302T171502Z
LAST-MODIFIED:20250302T171502Z
UID:4869-1743492600-1743496200@longnecksunriserotaryclub.com
SUMMARY:Carol Stephens: Butterfly Gardens
DESCRIPTION:
URL:https://longnecksunriserotaryclub.com/event/carol-stephens-butterfly-gardens/
END:VEVENT
BEGIN:VEVENT
DTSTART;TZID=America/New_York:20250408T073000
DTEND;TZID=America/New_York:20250408T203000
DTSTAMP:20260422T051903
CREATED:20250302T172129Z
LAST-MODIFIED:20250302T172129Z
UID:4871-1744097400-1744144200@longnecksunriserotaryclub.com
SUMMARY:Club Assembly
DESCRIPTION:Discussion on the golf outing
URL:https://longnecksunriserotaryclub.com/event/club-assembly-13/
END:VEVENT
BEGIN:VEVENT
DTSTART;TZID=America/New_York:20250415T073000
DTEND;TZID=America/New_York:20250415T083000
DTSTAMP:20260422T051903
CREATED:20250302T172228Z
LAST-MODIFIED:20250302T172228Z
UID:4873-1744702200-1744705800@longnecksunriserotaryclub.com
SUMMARY:George Farrah: Rehoboth Film Festival
DESCRIPTION:
URL:https://longnecksunriserotaryclub.com/event/george-farrah-rehoboth-film-festival/
END:VEVENT
BEGIN:VEVENT
DTSTART;TZID=America/New_York:20250422T073000
DTEND;TZID=America/New_York:20250422T083000
DTSTAMP:20260422T051903
CREATED:20250302T172402Z
LAST-MODIFIED:20250302T172402Z
UID:4875-1745307000-1745310600@longnecksunriserotaryclub.com
SUMMARY:Club Assembly
DESCRIPTION:Golf outing discussion
URL:https://longnecksunriserotaryclub.com/event/club-assembly-14/
END:VEVENT
END:VCALENDAR