BEGIN:VCALENDAR
VERSION:2.0
PRODID:-//Long Neck Sunrise Rotary Club - ECPv6.15.20//NONSGML v1.0//EN
CALSCALE:GREGORIAN
METHOD:PUBLISH
X-ORIGINAL-URL:https://longnecksunriserotaryclub.com
X-WR-CALDESC:Events for Long Neck Sunrise Rotary Club
REFRESH-INTERVAL;VALUE=DURATION:PT1H
X-Robots-Tag:noindex
X-PUBLISHED-TTL:PT1H
BEGIN:VTIMEZONE
TZID:America/New_York
BEGIN:DAYLIGHT
TZOFFSETFROM:-0500
TZOFFSETTO:-0400
TZNAME:EDT
DTSTART:20240310T070000
END:DAYLIGHT
BEGIN:STANDARD
TZOFFSETFROM:-0400
TZOFFSETTO:-0500
TZNAME:EST
DTSTART:20241103T060000
END:STANDARD
BEGIN:DAYLIGHT
TZOFFSETFROM:-0500
TZOFFSETTO:-0400
TZNAME:EDT
DTSTART:20250309T070000
END:DAYLIGHT
BEGIN:STANDARD
TZOFFSETFROM:-0400
TZOFFSETTO:-0500
TZNAME:EST
DTSTART:20251102T060000
END:STANDARD
BEGIN:DAYLIGHT
TZOFFSETFROM:-0500
TZOFFSETTO:-0400
TZNAME:EDT
DTSTART:20260308T070000
END:DAYLIGHT
BEGIN:STANDARD
TZOFFSETFROM:-0400
TZOFFSETTO:-0500
TZNAME:EST
DTSTART:20261101T060000
END:STANDARD
END:VTIMEZONE
BEGIN:VEVENT
DTSTART;TZID=America/New_York:20250603T215800
DTEND;TZID=America/New_York:20250603T215800
DTSTAMP:20260422T084301
CREATED:20240119T200747Z
LAST-MODIFIED:20250207T213836Z
UID:4572-1748987880-1748987880@longnecksunriserotaryclub.com
SUMMARY:Adkins Produce
DESCRIPTION:Ashley will present
URL:https://longnecksunriserotaryclub.com/event/adkins-produce/
END:VEVENT
BEGIN:VEVENT
DTSTART;TZID=America/New_York:20250610T073000
DTEND;TZID=America/New_York:20250610T083000
DTSTAMP:20260422T084301
CREATED:20250521T150617Z
LAST-MODIFIED:20250521T150617Z
UID:4903-1749540600-1749544200@longnecksunriserotaryclub.com
SUMMARY:Service Above Self Scholarship Recipients
DESCRIPTION:The 2025 winners of the Service Above Self Scholarship Recipients will talk about their future goals.
URL:https://longnecksunriserotaryclub.com/event/service-above-self-scholarship-recipients/
END:VEVENT
BEGIN:VEVENT
DTSTART;TZID=America/New_York:20250617T073000
DTEND;TZID=America/New_York:20250617T083000
DTSTAMP:20260422T084301
CREATED:20250302T174021Z
LAST-MODIFIED:20250302T174021Z
UID:4886-1750145400-1750149000@longnecksunriserotaryclub.com
SUMMARY:Club Assembly
DESCRIPTION:Golf Course Discussion
URL:https://longnecksunriserotaryclub.com/event/club-assembly-17/
END:VEVENT
BEGIN:VEVENT
DTSTART;VALUE=DATE:20250623
DTEND;VALUE=DATE:20250624
DTSTAMP:20260422T084301
CREATED:20250207T214115Z
LAST-MODIFIED:20250207T214115Z
UID:4849-1750636800-1750723199@longnecksunriserotaryclub.com
SUMMARY:Our kids. Our future. Charity Golf Tournament to Support the Youth of Long Neck
DESCRIPTION:Sponsored by Long Neck Sunrise Rotary Club
URL:https://longnecksunriserotaryclub.com/event/our-kids-our-future-charity-golf-tournament-to-support-the-youth-of-long-neck/
END:VEVENT
BEGIN:VEVENT
DTSTART;TZID=America/New_York:20250624T073000
DTEND;TZID=America/New_York:20250624T083000
DTSTAMP:20260422T084301
CREATED:20250521T150654Z
LAST-MODIFIED:20250521T150654Z
UID:4905-1750750200-1750753800@longnecksunriserotaryclub.com
SUMMARY:Club Assembly - Golf Tournament Wrap Up
DESCRIPTION:
URL:https://longnecksunriserotaryclub.com/event/club-assembly-golf-tournament-wrap-up/
END:VEVENT
END:VCALENDAR