BEGIN:VCALENDAR
VERSION:2.0
PRODID:-//Long Neck Sunrise Rotary Club - ECPv6.15.20//NONSGML v1.0//EN
CALSCALE:GREGORIAN
METHOD:PUBLISH
X-ORIGINAL-URL:https://longnecksunriserotaryclub.com
X-WR-CALDESC:Events for Long Neck Sunrise Rotary Club
REFRESH-INTERVAL;VALUE=DURATION:PT1H
X-Robots-Tag:noindex
X-PUBLISHED-TTL:PT1H
BEGIN:VTIMEZONE
TZID:America/New_York
BEGIN:DAYLIGHT
TZOFFSETFROM:-0500
TZOFFSETTO:-0400
TZNAME:EDT
DTSTART:20240310T070000
END:DAYLIGHT
BEGIN:STANDARD
TZOFFSETFROM:-0400
TZOFFSETTO:-0500
TZNAME:EST
DTSTART:20241103T060000
END:STANDARD
BEGIN:DAYLIGHT
TZOFFSETFROM:-0500
TZOFFSETTO:-0400
TZNAME:EDT
DTSTART:20250309T070000
END:DAYLIGHT
BEGIN:STANDARD
TZOFFSETFROM:-0400
TZOFFSETTO:-0500
TZNAME:EST
DTSTART:20251102T060000
END:STANDARD
BEGIN:DAYLIGHT
TZOFFSETFROM:-0500
TZOFFSETTO:-0400
TZNAME:EDT
DTSTART:20260308T070000
END:DAYLIGHT
BEGIN:STANDARD
TZOFFSETFROM:-0400
TZOFFSETTO:-0500
TZNAME:EST
DTSTART:20261101T060000
END:STANDARD
END:VTIMEZONE
BEGIN:VEVENT
DTSTART;TZID=America/New_York:20250805T073000
DTEND;TZID=America/New_York:20250805T083000
DTSTAMP:20260422T200421
CREATED:20250715T141132Z
LAST-MODIFIED:20250715T141132Z
UID:4955-1754379000-1754382600@longnecksunriserotaryclub.com
SUMMARY:State Legislature Update
DESCRIPTION:Senator Brian Pettyjohn
URL:https://longnecksunriserotaryclub.com/event/state-legislature-update/
END:VEVENT
BEGIN:VEVENT
DTSTART;TZID=America/New_York:20250819T073000
DTEND;TZID=America/New_York:20250819T083000
DTSTAMP:20260422T200421
CREATED:20250715T141224Z
LAST-MODIFIED:20250715T141224Z
UID:4957-1755588600-1755592200@longnecksunriserotaryclub.com
SUMMARY:Nova Care
DESCRIPTION:Ryan Kardos
URL:https://longnecksunriserotaryclub.com/event/nova-care/
END:VEVENT
BEGIN:VEVENT
DTSTART;TZID=America/New_York:20250822T180000
DTEND;TZID=America/New_York:20250822T200000
DTSTAMP:20260422T200421
CREATED:20250822T204406Z
LAST-MODIFIED:20250822T204406Z
UID:4977-1755885600-1755892800@longnecksunriserotaryclub.com
SUMMARY:Evening Meeting
DESCRIPTION:BrickWorks\, 36932 Silicato Drive\, Millsboro
URL:https://longnecksunriserotaryclub.com/event/evening-meeting/
LOCATION:BrickWorks Millsboro\, 36932 Silicato Drive\, Millsboro\, DE\, 19966\, United States
END:VEVENT
BEGIN:VEVENT
DTSTART;TZID=America/New_York:20250826T150000
DTEND;TZID=America/New_York:20250826T160000
DTSTAMP:20260422T200421
CREATED:20250715T141317Z
LAST-MODIFIED:20250715T141317Z
UID:4959-1756220400-1756224000@longnecksunriserotaryclub.com
SUMMARY:Birthday Bash
DESCRIPTION:Oak Orchard Boys and Girls Club
URL:https://longnecksunriserotaryclub.com/event/birthday-bash-2/
END:VEVENT
BEGIN:VEVENT
DTSTART;TZID=America/New_York:20250826T150000
DTEND;TZID=America/New_York:20250826T160000
DTSTAMP:20260422T200421
CREATED:20250811T211607Z
LAST-MODIFIED:20250811T211607Z
UID:4972-1756220400-1756224000@longnecksunriserotaryclub.com
SUMMARY:Summer Birthday Bash
DESCRIPTION:Oak Orchard Boys and Girls  Club
URL:https://longnecksunriserotaryclub.com/event/summer-birthday-bash/
END:VEVENT
END:VCALENDAR