BEGIN:VCALENDAR
VERSION:2.0
PRODID:-//Long Neck Sunrise Rotary Club - ECPv6.15.20//NONSGML v1.0//EN
CALSCALE:GREGORIAN
METHOD:PUBLISH
X-ORIGINAL-URL:https://longnecksunriserotaryclub.com
X-WR-CALDESC:Events for Long Neck Sunrise Rotary Club
REFRESH-INTERVAL;VALUE=DURATION:PT1H
X-Robots-Tag:noindex
X-PUBLISHED-TTL:PT1H
BEGIN:VTIMEZONE
TZID:America/New_York
BEGIN:DAYLIGHT
TZOFFSETFROM:-0500
TZOFFSETTO:-0400
TZNAME:EDT
DTSTART:20240310T070000
END:DAYLIGHT
BEGIN:STANDARD
TZOFFSETFROM:-0400
TZOFFSETTO:-0500
TZNAME:EST
DTSTART:20241103T060000
END:STANDARD
BEGIN:DAYLIGHT
TZOFFSETFROM:-0500
TZOFFSETTO:-0400
TZNAME:EDT
DTSTART:20250309T070000
END:DAYLIGHT
BEGIN:STANDARD
TZOFFSETFROM:-0400
TZOFFSETTO:-0500
TZNAME:EST
DTSTART:20251102T060000
END:STANDARD
BEGIN:DAYLIGHT
TZOFFSETFROM:-0500
TZOFFSETTO:-0400
TZNAME:EDT
DTSTART:20260308T070000
END:DAYLIGHT
BEGIN:STANDARD
TZOFFSETFROM:-0400
TZOFFSETTO:-0500
TZNAME:EST
DTSTART:20261101T060000
END:STANDARD
END:VTIMEZONE
BEGIN:VEVENT
DTSTART;TZID=America/New_York:20250902T073000
DTEND;TZID=America/New_York:20250902T083000
DTSTAMP:20260423T030618
CREATED:20250715T141406Z
LAST-MODIFIED:20250715T141406Z
UID:4961-1756798200-1756801800@longnecksunriserotaryclub.com
SUMMARY:Labor Day Holiday - no meeting
DESCRIPTION:
URL:https://longnecksunriserotaryclub.com/event/labor-day-holiday-no-meeting/
END:VEVENT
BEGIN:VEVENT
DTSTART;TZID=America/New_York:20250908T180000
DTEND;TZID=America/New_York:20250908T193000
DTSTAMP:20260423T030618
CREATED:20250822T203948Z
LAST-MODIFIED:20250822T203948Z
UID:4975-1757354400-1757359800@longnecksunriserotaryclub.com
SUMMARY:Board Meeting
DESCRIPTION:At Dan Reed’s House. \nNotify him if you plan to attend.
URL:https://longnecksunriserotaryclub.com/event/board-meeting-17/
END:VEVENT
BEGIN:VEVENT
DTSTART;TZID=America/New_York:20250909T073000
DTEND;TZID=America/New_York:20250909T083000
DTSTAMP:20260423T030618
CREATED:20250715T141442Z
LAST-MODIFIED:20250715T141442Z
UID:4963-1757403000-1757406600@longnecksunriserotaryclub.com
SUMMARY:SPCA
DESCRIPTION:Bonnie
URL:https://longnecksunriserotaryclub.com/event/spca/
END:VEVENT
BEGIN:VEVENT
DTSTART;TZID=America/New_York:20250923T073000
DTEND;TZID=America/New_York:20250923T083000
DTSTAMP:20260423T030618
CREATED:20250715T141531Z
LAST-MODIFIED:20250715T141531Z
UID:4965-1758612600-1758616200@longnecksunriserotaryclub.com
SUMMARY:Rick's Bait Shop
DESCRIPTION:Mike
URL:https://longnecksunriserotaryclub.com/event/ricks-bait-shop/
END:VEVENT
BEGIN:VEVENT
DTSTART;TZID=America/New_York:20250930T073000
DTEND;TZID=America/New_York:20250930T083000
DTSTAMP:20260423T030618
CREATED:20250715T141609Z
LAST-MODIFIED:20250715T141609Z
UID:4967-1759217400-1759221000@longnecksunriserotaryclub.com
SUMMARY:District Governor's Visit
DESCRIPTION:Dale Kerns will address the club
URL:https://longnecksunriserotaryclub.com/event/district-governors-visit/
END:VEVENT
END:VCALENDAR